BEGIN:VCALENDAR
VERSION:2.0
METHOD:PUBLISH
PRODID:-//hacksw/handcal//NONSGML v1.0//EN
BEGIN:VEVENT
DTSTAMP:20260423T095941Z
DTSTART:20031109T170000Z
DTEND:20031109T225900Z
UID:20031109T170000Z-20031109T225900Z-458@www.spiritualchor.de
SUMMARY:Chorkonzert im Herbst 2003
DESCRIPTION:
X-ALT-DESC;FMTTYPE=text/html:
URL:https://www.spiritualchor.de/events/konzert-in-otterstadt-luitpold
 str-1/?lang=de
ATTACH:https://www.spiritualchor.de/events/konzert-in-otterstadt-luitp
 oldstr-1/?lang=de
LOCATION:Mariä Himmelfahrt\, Luitpoldstr. 1\, Otterstadt
END:VEVENT
END:VCALENDAR
