BEGIN:VCALENDAR
VERSION:2.0
METHOD:PUBLISH
PRODID:-//hacksw/handcal//NONSGML v1.0//EN
BEGIN:VEVENT
DTSTAMP:20260424T052540Z
DTSTART:20210904T150000Z
DTEND:20210904T215900Z
UID:20210904T150000Z-20210904T215900Z-359@www.spiritualchor.de
SUMMARY:Auftritt im Rahmen von Laafe\, Gugge\, Horche - Tag 1
DESCRIPTION:
X-ALT-DESC;FMTTYPE=text/html:
URL:https://www.spiritualchor.de/events/laafe-gugge-horche-2/?lang=de
ATTACH:https://www.spiritualchor.de/events/laafe-gugge-horche-2/?lang=
 de
LOCATION:Laafe-Gugge-Horche\, Am Lindenplatz 3\, Schwegenheim
END:VEVENT
END:VCALENDAR
