BEGIN:VCALENDAR
VERSION:2.0
METHOD:PUBLISH
PRODID:-//hacksw/handcal//NONSGML v1.0//EN
BEGIN:VEVENT
DTSTAMP:20260424T052955Z
DTSTART:20191215T170000Z
DTEND:20191215T225900Z
UID:20191215T170000Z-20191215T225900Z-366@www.spiritualchor.de
SUMMARY:Auftritt beim Weihnachtskonzert des Protestantischen Kirchench
 ors
DESCRIPTION:
X-ALT-DESC;FMTTYPE=text/html:
URL:https://www.spiritualchor.de/events/auftritt-beim-weihnachtskonzer
 t-des-prot-kirchenchors-2/?lang=de
ATTACH:https://www.spiritualchor.de/events/auftritt-beim-weihnachtskon
 zert-des-prot-kirchenchors-2/?lang=de
LOCATION:Protestantische Kirche\, Neustadter Str. 4\, Schwegenheim
END:VEVENT
END:VCALENDAR
