BEGIN:VCALENDAR
VERSION:2.0
METHOD:PUBLISH
PRODID:-//hacksw/handcal//NONSGML v1.0//EN
BEGIN:VEVENT
DTSTAMP:20260424T052750Z
DTSTART:20190525T170000Z
DTEND:20190525T215959Z
UID:20190525T170000Z-20190525T215959Z-371@www.spiritualchor.de
SUMMARY:Open-Air Hofkonzert
DESCRIPTION:
X-ALT-DESC;FMTTYPE=text/html:
URL:https://www.spiritualchor.de/events/open-air-hofkonzert/?lang=de
ATTACH:https://www.spiritualchor.de/events/open-air-hofkonzert/?lang=d
 e
LOCATION:Schwegenheimer Hof\, Hauptstraße 27\, Schwegenheim
END:VEVENT
END:VCALENDAR
