BEGIN:VCALENDAR
VERSION:2.0
METHOD:PUBLISH
PRODID:-//hacksw/handcal//NONSGML v1.0//EN
BEGIN:VEVENT
DTSTAMP:20260424T052430Z
DTSTART:20181021T160000Z
DTEND:20181021T215900Z
UID:20181021T160000Z-20181021T215900Z-376@www.spiritualchor.de
SUMMARY:Chorkonzert im Herbst 2018
DESCRIPTION:
X-ALT-DESC;FMTTYPE=text/html:
URL:https://www.spiritualchor.de/events/konzert-in-speyer/?lang=de
ATTACH:https://www.spiritualchor.de/events/konzert-in-speyer/?lang=de
LOCATION:Friedenskirche St. Bernhard\, Hirschgraben 3\, Speyer
END:VEVENT
END:VCALENDAR
