BEGIN:VCALENDAR
VERSION:2.0
METHOD:PUBLISH
PRODID:-//hacksw/handcal//NONSGML v1.0//EN
BEGIN:VEVENT
DTSTAMP:20260424T053104Z
DTSTART:20030906T170000Z
DTEND:20030906T215900Z
UID:20030906T170000Z-20030906T215900Z-460@www.spiritualchor.de
SUMMARY:Auftritt bei der Einweihung der Christlichen Freikirche
DESCRIPTION:
X-ALT-DESC;FMTTYPE=text/html:
URL:https://www.spiritualchor.de/events/einweihung-der-christlichen-fr
 eikirche-neustadt/?lang=de
ATTACH:https://www.spiritualchor.de/events/einweihung-der-christlichen
 -freikirche-neustadt/?lang=de
LOCATION:Ehem. Sektkellerei Karstens SC\, Maximilianstraße 18\, Neusta
 dt an der Weinstraße
END:VEVENT
END:VCALENDAR
