BEGIN:VCALENDAR
VERSION:2.0
METHOD:PUBLISH
PRODID:-//hacksw/handcal//NONSGML v1.0//EN
BEGIN:VEVENT
DTSTAMP:20260424T052552Z
DTSTART:19980521T080000Z
DTEND:19980521T215900Z
UID:19980521T080000Z-19980521T215900Z-497@www.spiritualchor.de
SUMMARY:Konzertreise im Frühjahr 1998
DESCRIPTION:
X-ALT-DESC;FMTTYPE=text/html:
URL:https://www.spiritualchor.de/events/konzertreise-nach-freiburg/?la
 ng=de
ATTACH:https://www.spiritualchor.de/events/konzertreise-nach-freiburg/
 ?lang=de
LOCATION:Wiehre\, .\, Wiehre
END:VEVENT
END:VCALENDAR
